{"text_format":"1","workbook":"xlsx","n_sheets":5,"sheets":["事務局確認用（配布時非表示）","参加申込書(書式２－１）","旅費の振込口座および経路申出書(書式２－2）","懇親会参加確認書(書式２－3）","宿泊申込書(書式２－4）"],"not_rendered":{"charts":0,"images":0,"macros":0,"external_links":0,"defined_names":2,"comments":1,"pivot_tables":0},"unopened":[],"bounds":{"document_bytes":16777216,"sheet_cells":100000,"rows_first":2000,"rows_last":500,"rows_between":2000,"halvings":0,"cell_chars":16384,"cell_head_chars":4096},"cells_cut":0,"cells_raw":0,"read":"whole","date_system":"1900"}

{"sheet":"事務局確認用（配布時非表示）","index":0,"n_rows":2,"n_cols":48,"rows_kept":2,"cut":false,"hidden":true,"merged":[]}
["学年","姓","名","セイ","メイ","英文表記","tel","緊急連絡先","e-mail","郵便番号","住所","研究テーマ　和文","研究テーマ　英文　※最初の単語のみ大文字、それ以外は特殊な専門用語を除き小文字に統一。原稿が斜体文字は必ず斜体にすること。","研究倫理規程\n（承認を得た/無該当）","FA\n講座","役職","姓","名","セイ","メイ","Email","TEL","学年","共同研究者①","学年","共同研究者②","学年","共同研究者③","学年","共同研究者④","学年","共同研究者⑤","研究指導協力者①\n講座","役職","氏名","研究指導協力者②\n講座","役職","氏名","研究指導協力者③\n講座","役職","氏名","2026-11-28","発表者懇親会","FA見学","FA懇親会","研究指導協力者見学","研究指導協力者懇親会","研究指導協力者氏名"]
[{"$f":"'参加申込書(書式２－１）'!C9","v":0},{"$f":"'参加申込書(書式２－１）'!C7","v":0},{"$f":"'参加申込書(書式２－１）'!D7","v":0},{"$f":"'参加申込書(書式２－１）'!C6","v":0},{"$f":"'参加申込書(書式２－１）'!D6","v":0},{"$f":"'参加申込書(書式２－１）'!D8&\" \"&'参加申込書(書式２－１）'!C8","v":" "},{"$f":"'参加申込書(書式２－１）'!C11","v":0},{"$f":"'参加申込書(書式２－１）'!C12","v":0},{"$f":"'参加申込書(書式２－１）'!C13","v":0},{"$f":"'参加申込書(書式２－１）'!C14","v":0},{"$f":"'参加申込書(書式２－１）'!C15","v":0},{"$f":"'参加申込書(書式２－１）'!C17","v":0},{"$f":"'参加申込書(書式２－１）'!C18","v":0},{"$f":"'参加申込書(書式２－１）'!C19","v":0},{"$f":"'参加申込書(書式２－１）'!C25","v":0},{"$f":"'参加申込書(書式２－１）'!C26","v":0},{"$f":"'参加申込書(書式２－１）'!C23","v":0},{"$f":"'参加申込書(書式２－１）'!D23","v":0},{"$f":"'参加申込書(書式２－１）'!C22","v":0},{"$f":"'参加申込書(書式２－１）'!D22","v":0},{"$f":"'参加申込書(書式２－１）'!C27","v":0},{"$f":"'参加申込書(書式２－１）'!C28","v":0},{"$f":"'参加申込書(書式２－１）'!C53","v":0},{"$f":"'参加申込書(書式２－１）'!C51&\"　\"&'参加申込書(書式２－１）'!D51","v":"　"},{"$f":"'参加申込書(書式２－１）'!C58","v":0},{"$f":"'参加申込書(書式２－１）'!C56&\"　\"&'参加申込書(書式２－１）'!D56","v":"　"},{"$f":"'参加申込書(書式２－１）'!C63","v":0},{"$f":"'参加申込書(書式２－１）'!C61&\"　\"&'参加申込書(書式２－１）'!D61","v":"　"},{"$f":"'参加申込書(書式２－１）'!C68","v":0},{"$f":"'参加申込書(書式２－１）'!C66&\"　\"&'参加申込書(書式２－１）'!D66","v":"　"},{"$f":"'参加申込書(書式２－１）'!C68","v":0},{"$f":"'参加申込書(書式２－１）'!C71&\"　\"&'参加申込書(書式２－１）'!D71","v":"　"},{"$f":"'参加申込書(書式２－１）'!C34","v":0},{"$f":"'参加申込書(書式２－１）'!C35","v":0},{"$f":"'参加申込書(書式２－１）'!C32&\"　\"&'参加申込書(書式２－１）'!D32","v":"　"},{"$f":"'参加申込書(書式２－１）'!C40","v":0},{"$f":"'参加申込書(書式２－１）'!C41","v":0},{"$f":"'参加申込書(書式２－１）'!C38&\"　\"&'参加申込書(書式２－１）'!D38","v":"　"},{"$f":"'参加申込書(書式２－１）'!C46","v":0},{"$f":"'参加申込書(書式２－１）'!C47","v":0},{"$f":"'参加申込書(書式２－１）'!C44&\"　\"&'参加申込書(書式２－１）'!D44","v":"　"},{"$f":"IF('宿泊申込書(書式２－4）'!E8=\"要\",1,0)","v":0},{"$f":"IF('懇親会参加確認書(書式２－3）'!D6=\"参加\",1,0)","v":0},{"$f":"IF('懇親会参加確認書(書式２－3）'!E9=\"参加\",1,0)","v":0},{"$f":"IF('懇親会参加確認書(書式２－3）'!E10=\"参加\",1,0)","v":0},{"$f":"IF('懇親会参加確認書(書式２－3）'!E16=\"参加\",1,0)","v":0},{"$f":"IF('懇親会参加確認書(書式２－3）'!E17=\"参加\",1,0)","v":0},{"$f":"'懇親会参加確認書(書式２－3）'!E18","v":0}]

{"sheet":"参加申込書(書式２－１）","index":1,"n_rows":73,"n_cols":5,"rows_kept":73,"cut":false,"hidden":false,"merged":[[16,2,16,3],[17,2,17,3],[17,4,17,9],[6,4,6,10],[70,4,70,10],[22,4,22,10],[24,2,24,3],[31,4,31,10],[37,4,37,10],[43,4,43,10],[50,4,50,10],[55,4,55,10],[60,4,60,10],[65,4,65,10]]}
[null,"令和８年度JDA Student Scientific Research Competition（SSRC）参加申込書"]
[null,"※黄色いセルは必須項目です。不足なく回答してください。"]
[]
[null,"１．発表者氏名・学年"]
[null,null,"姓","名"]
["Q1","ふりがな"]
["Q2","氏名（日本語表記）",null,null,"※ミドルネームは名の欄に記載。その際名前の区切りに全角スペースを入れること。賞状や抄録集等に記載するため、表記には十分注意すること。"]
["Q3","氏名（英語表記）",null,null,"※姓・名の順で記載してください。"]
["Q4","学年",null,"年生","※プルダウンより選択してください。"]
[null,"２．発表者連絡先"]
["Q5","電話番号",null,"※発表当日連絡可能な番号を入力してください。"]
["Q6","緊急連絡先",null,"※上記とは別の電話番号を記載してください。"]
["Q7","メールアドレス",null,"※普段利用しているメールアドレスを記載してください。（学内アドレスでも問題ありませんが、問い合わせ対応ができるアドレスにしてください。）"]
["Q8","郵便番号"]
["Q9","住所",null,"※事後抄録集を送付する住所を記載してください。交通費の計算にも使用します。"]
[null,"３．研究テーマについて"]
["Q10","和文"]
["Q11","英文",null,null,"※先頭単語：最初のスペルのみ大文字、特定の用語以外は続く単語を小文字とすること。\n　以降研究テーマについては抄録集やHP掲載資料等にこの表記を使用するため、スペルには十分注意すること。"]
["Q12","研究倫理規定等について",null,"※プルダウンより選択してください。"]
[null,"４．ファカルティ・アドバイザーについて"]
[null,null,"姓","名"]
["Q13","ふりがな"]
["Q14","氏名（日本語表記）",null,null,"※ミドルネームは名の欄に記載。名前の区切りに全角スペースを入れること。賞状や抄録集等に記載するため、表記には十分注意すること。"]
["Q15","氏名（英語表記）",null,null,"※姓・名の順で記載してください。"]
["Q16","講座・分野名"]
["Q17","役職名"]
["Q18","メールアドレス"]
["Q19","電話番号"]
[null,"５．研究指導協力者（３名以内：ファカルティ・アドバイザーを除く）　※研究発表抄録集に記載します。記載不要の場合は空欄で構いません。"]
[null,null,"姓","名"]
["Q20","ふりがな"]
["Q21","氏名（日本語表記）",null,null,"※ミドルネームは名の欄に記載。その際、名前の区切りに全角スペースを入れること。抄録集等に記載するため、表記には十分注意すること。"]
["Q22","氏名（英語表記）",null,null,"※姓・名の順で記載してください。"]
[null,"講座・分野名"]
["Q23","役職名"]
[null,null,"姓","名"]
["Q24","ふりがな"]
["Q25","氏名（日本語表記）",null,null,"※ミドルネームは名の欄に記載。その際、名前の区切りに全角スペースを入れること。抄録集等に記載するため、表記には十分注意すること。"]
["Q26","氏名（英語表記）",null,null,"※姓・名の順で記載してください。"]
[null,"講座・分野名"]
["Q27","役職名"]
[null,null,"姓","名"]
["Q28","ふりがな"]
["Q29","氏名（日本語表記）",null,null,"※ミドルネームは名の欄に記載。その際、名前の区切りに全角スペースを入れること。抄録集等に記載するため、表記には十分注意すること。"]
["Q30","氏名（英語表記）",null,null,"※姓・名の順で記載してください。"]
[null,"講座・分野名"]
["Q31","役職名"]
[null,"６．共同研究者（５名以内）",null,"※研究発表抄録集に記載します。記載不要の場合は空欄で構いません。"]
[null,null,"姓","名"]
["Q32","ふりがな"]
["Q33","氏名（日本語表記）",null,null,"※ミドルネームは名の欄に記載。その際、名前の区切りに全角スペースを入れること。抄録集等に記載するため、表記には十分注意すること。"]
["Q34","氏名（英語表記）",null,null,"※姓・名の順で記載してください。"]
["Q35","学年",null,"年生","※プルダウンより選択してください。"]
[null,null,"姓","名"]
["Q36","ふりがな"]
["Q37","氏名（日本語表記）",null,null,"※ミドルネームは名の欄に記載。その際、名前の区切りに全角スペースを入れること。抄録集等に記載するため、表記には十分注意すること。"]
["Q38","氏名（英語表記）",null,null,"※姓・名の順で記載してください。"]
["Q39","学年",null,"年生","※プルダウンより選択してください。"]
[null,null,"姓","名"]
["Q40","ふりがな"]
["Q41","氏名（日本語表記）",null,null,"※ミドルネームは名の欄に記載。その際、名前の区切りに全角スペースを入れること。抄録集等に記載するため、表記には十分注意すること。"]
["Q42","氏名（英語表記）",null,null,"※姓・名の順で記載してください。"]
["Q43","学年",null,"年生","※プルダウンより選択してください。"]
[null,null,"姓","名"]
["Q44","ふりがな"]
["Q45","氏名（日本語表記）",null,null,"※ミドルネームは名の欄に記載。その際、名前の区切りに全角スペースを入れること。抄録集等に記載するため、表記には十分注意すること。"]
["Q46","氏名（英語表記）",null,null,"※姓・名の順で記載してください。"]
["Q47","学年",null,"年生","※プルダウンより選択してください。"]
[null,null,"姓","名"]
["Q48","ふりがな"]
["Q49","氏名（日本語表記）",null,null,"※ミドルネームは名の欄に記載。その際、名前の区切りに全角スペースを入れること。抄録集等に記載するため、表記には十分注意すること。"]
["Q50","氏名（英語表記）",null,null,"※姓・名の順で記載してください。"]
["Q51","学年",null,"年生","※プルダウンより選択してください。"]

{"sheet":"旅費の振込口座および経路申出書(書式２－2）","index":2,"n_rows":24,"n_cols":10,"rows_kept":24,"cut":false,"hidden":false,"merged":[[3,0,3,7],[0,1,0,7],[1,0,1,4],[1,5,1,7],[2,0,2,4],[2,5,2,7],[4,0,4,7],[5,0,5,7],[6,0,6,4],[6,5,6,7],[7,0,7,4],[7,5,7,7],[8,0,9,2],[8,3,9,4],[8,5,8,7],[9,6,9,7],[10,0,10,2],[10,3,10,4],[10,5,10,7],[11,0,11,7],[13,0,13,1],[13,2,13,4],[13,5,13,7],[14,0,14,1],[14,2,14,7],[15,0,15,1],[15,2,15,7],[16,0,16,1],[16,2,16,7],[18,0,18,1],[18,2,18,4],[19,0,19,1],[19,2,19,7],[20,0,20,1],[20,2,20,7],[21,0,21,1],[21,2,21,7],[23,0,23,1],[23,2,23,3],[23,4,23,7],[24,0,24,1],[24,2,24,3],[24,4,24,7],[25,0,25,1],[25,2,25,3],[25,4,25,7],[26,0,26,1],[26,2,26,3],[26,4,26,7],[27,0,27,1],[27,2,27,3],[27,4,27,7],[28,0,28,1],[28,2,28,3],[28,4,28,7],[29,0,29,1],[29,2,29,3],[29,4,29,7],[30,0,30,1],[30,2,30,3],[30,4,30,7],[31,0,31,1],[31,2,31,3],[31,4,31,7],[32,0,32,1],[32,2,32,3],[32,4,32,7],[33,0,33,1],[33,2,33,3],[33,4,33,7],[34,0,34,1],[34,2,34,3],[34,4,34,7],[37,0,37,1],[37,2,37,3],[37,4,37,7],[35,0,35,1],[35,2,35,3],[35,4,35,7],[36,0,36,1],[36,2,36,3],[36,4,36,7]]}
["R8","公益社団法人日本歯科医師会　旅費の振込口座および経路申出書",null,null,null,null,null,null,null,"※黄色いセルは必須項目です。不足なく回答してください。"]
["会議名",null,null,null,null,"氏　名"]
["令和8年度SSRP大会",null,null,null,null,{"$f":"'参加申込書(書式２－１）'!C7&\"　\"&'参加申込書(書式２－１）'!D7","v":"　"}]
["自宅住所"]
[{"$f":"'参加申込書(書式２－１）'!C15","v":0}]
["旅費の振込先"]
["金融機関名",null,null,null,null,"支店名"]
[]
["預金科目",null,null,"口座番号",null,"口座名義（必ずフリガナを記入してください）"]
[null,null,null,null,null,"フリガナ",{"$f":"'参加申込書(書式２－１）'!C6&'参加申込書(書式２－１）'!D6","v":""}]
["普通",null,null,null,null,{"$f":"'参加申込書(書式２－１）'!C7&\"　\"&'参加申込書(書式２－１）'!D7","v":"　"}]
["Ａ～Ｃの該当する欄にご記入をお願いいたします。欄が足りない場合は追加してください。\n＜自宅⇔日本歯科医師会（市ヶ谷）の経路＞"]
["Ａ．　飛行機ご利用の方"]
["ご利用の空港"]
["利用日",null,"利用区間"]
[null,null,"～"]
[null,null,"～"]
["Ｂ．　新幹線ご利用の方"]
["ご利用の新幹線駅"]
["利用日",null,"乗車駅　　　　　　～　　　　　　降車駅"]
[null,null,"～"]
[null,null,"～"]
["C．　在来線（特急も含む）・バスをご利用の方　　",null,null,null,"＊羽田空港～市ヶ谷駅、東京駅～市ヶ谷駅までの経路は、記入不要です"]
["利用日",null,"利用する交通機関名",null,"区間 （歯科医師会館の最寄駅：市ヶ谷)"]

{"sheet":"懇親会参加確認書(書式２－3）","index":3,"n_rows":18,"n_cols":7,"rows_kept":18,"cut":false,"hidden":false,"merged":[[17,4,17,5]]}
["令和８年度SSRC懇親会・表彰式見学参加確認書"]
["表彰式終了後、懇親会を行います。"]
["参加の可否についてご回答ください。"]
["※黄色いセルは必須項目です。不足なく回答してください。"]
[]
["１．発表学生の懇親会参加",null,null,null,"※プルダウンから選択してください。"]
[]
["２．ファカルティ・アドバイザーの表彰式見学と懇親会の参加"]
[null,null,"表彰式",null,null,"※プルダウンから選択してください。"]
[null,null,"懇親会",null,null,"※プルダウンから選択してください。"]
[]
[]
["3．研究指導協力者の参加"]
["※研究指導協力者は各校1名のみの参加です。"]
[]
[null,null,"表彰式",null,null,"※プルダウンから選択してください。"]
[null,null,"懇親会",null,null,"※プルダウンから選択してください。"]
[null,null,"氏名",null,null,null,"※参加する研究指導協力者氏名を入力してください。"]

{"sheet":"宿泊申込書(書式２－4）","index":4,"n_rows":12,"n_cols":7,"rows_kept":12,"cut":false,"hidden":false,"merged":[[2,0,4,9],[11,0,11,9],[9,1,9,8],[8,1,8,8]]}
["令和８年度SSRC宿泊申込書"]
["※対象者のみ記入してください。"]
["※宿泊対象の発表者は、大会前日（11/28）本会指定の宿泊施設の利用を可能とする。\n対象の大学については、ページ下部をご確認ください。"]
[]
[]
["※申し込み以降、ホテルのキャンセル・追加はできません。"]
[]
["2026-11-28","宿泊手配の要・不要について",null,null,null,null,"※プルダウンから選択してください。"]
[null,"11月28日の宿泊が不要な場合は、下記に理由を記載してください。\n例：都内の実家に宿泊のため　等"]
[]
[]
["本会が宿泊対象と判断する大学（20校）\n北海道大学・北海道医療大学・岩手医科大学・東北大学・奥羽大学・松本歯科大学・新潟大学・\n日本歯科大学新潟生命歯学部・愛知学院大学・朝日大学・大阪大学・大阪歯科大学・岡山大学・\n広島大学・徳島大学・九州大学・九州歯科大学・福岡歯科大学・長崎大学・鹿児島大学"]